Workbook

Sheet Input Data
A1: Film Test Evaluation | V1: Stouffer | W1: 21 | X1: 0.15
W2: 31 | X2: 0.1
A3: =CONCATENATE('Input Data'!G$43,", ",'Input Data'!G$45,", ",'Input Data'!G$46," @",'Input Data'!G$47,", ",'Input Data'!G$48) -> Kodak TMax-100, Ilford ID-11, 1+1 @20°C, rotation processing
A4: ©2010, 2011 Ralph W. Lambrecht (www.darkroomagic.com) version 1.2.0 (2011-Jan-16)
E8: step tablet | G8: negative density
D9: theo | E9: actual | F9: actual | G9: development time [min] | V9: =G$10 -> 4 | Y9: =H$10 -> 5.5 | AB9: =I$10 -> 8 | AE9: =J$10 -> 11 | AH9: =K$10 -> 16
C10: step | D10: density | E10: density | F10: log exp | G10: 4 | H10: 5.5 | I10: 8 | J10: 11 | K10: 16 | O10: =G$10 -> 4 | P10: =H$10 -> 5.5 | Q10: =I$10 -> 8 | R10: =J$10 -> 11 | S10: =K$10 -> 16 | V10: logH | W10: min | X10: max | Y10: logH | Z10: min | AA10: max | AB10: logH | AC10: min | AD10: max | AE10: logH | AF10: min | AG10: max | AH10: logH | AI10: min | AJ10: max
C11: 1 | D11: 0 | E11: =D11 -> 0 | F11: =C$47-E11 -> 3 | G11: 0.69 | H11: 0.98 | I11: 1.33 | J11: 1.66 | K11: 2.23 | O11: =IF(G11<($K$49+O$43),"",IF(G11>($L$49+O$43),"",G11)) -> 0.69 | P11: =IF(H11<($K$49+P$43),"",IF(H11>($L$49+P$43),"",H11)) -> 0.98 | Q11: =IF(I11<($K$49+Q$43),"",IF(I11>($L$49+Q$43),"",I11)) -> 1.33 | R11: =IF(J11<($K$49+R$43),"",IF(J11>($L$49+R$43),"",J11)) | S11: =IF(K11<($K$49+S$43),"",IF(K11>($L$49+S$43),"",K11)) | V11: =IF(W11<>"",$F11,IF(X11<>"",$F11,"")) | X11: =IF(W12<>"",$G11,"") | Y11: =IF(Z11<>"",$F11,IF(AA11<>"",$F11,"")) | AA11: =IF(Z12<>"",$H11,"") | AB11: =IF(AC11<>"",$F11,IF(AD11<>"",$F11,"")) | AD11: =IF(AC12<>"",$I11,"") | AE11: =IF(AF11<>"",$F11,IF(AG11<>"",$F11,"")) | AG11: =IF(AF12<>"",$J11,"") | AH11: =IF(AI11<>"",$F11,IF(AJ11<>"",$F11,"")) | AJ11: =IF(AI12<>"",$K11,"")
C12: =C11+1 -> 2 | D12: =D11+$C$49 -> 0.1 | E12: =D12 -> 0.1 | F12: =C$47-E12 -> 2.9 | G12: 0.63 | H12: 0.94 | I12: 1.27 | J12: 1.57 | K12: 2.14 | O12: =IF(G12<($K$49+O$43),"",IF(G12>($L$49+O$43),"",G12)) -> 0.63 | P12: =IF(H12<($K$49+P$43),"",IF(H12>($L$49+P$43),"",H12)) -> 0.94 | Q12: =IF(I12<($K$49+Q$43),"",IF(I12>($L$49+Q$43),"",I12)) -> 1.27 | R12: =IF(J12<($K$49+R$43),"",IF(J12>($L$49+R$43),"",J12)) | S12: =IF(K12<($K$49+S$43),"",IF(K12>($L$49+S$43),"",K12)) | V12: =IF(W12<>"",$F12,IF(X12<>"",$F12,"")) | W12: =IF($G12<$K$49+$O$43,IF($G11>=$K$49+$O$43,$G12,""),"") | X12: =IF(W13<>"",$G12,"") | Y12: =IF(Z12<>"",$F12,IF(AA12<>"",$F12,"")) | Z12: =IF($H12<$K$49+$P$43,IF($H11>=$K$49+$P$43,$H12,""),"") | AA12: =IF(Z13<>"",$H12,"") | AB12: =IF(AC12<>"",$F12,IF(AD12<>"",$F12,"")) | AC12: =IF($I12<$K$49+$Q$43,IF($I11>=$K$49+$Q$43,$I12,""),"") | AD12: =IF(AC13<>"",$I12,"") | AE12: =IF(AF12<>"",$F12,IF(AG12<>"",$F12,"")) | AF12: =IF($J12<$K$49+$R$43,IF($J11>=$K$49+$R$43,$J12,""),"") | AG12: =IF(AF13<>"",$J12,"") | AH12: =IF(AI12<>"",$F12,IF(AJ12<>"",$F12,"")) | AI12: =IF($K12<$K$49+$S$43,IF($K11>=$K$49+$S$43,$K12,""),"") | AJ12: =IF(AI13<>"",$K12,"")
C13: =C12+1 -> 3 | D13: =D12+$C$49 -> 0.2 | E13: =D13 -> 0.2 | F13: =C$47-E13 -> 2.8 | G13: 0.6 | H13: 0.91 | I13: 1.22 | J13: 1.52 | K13: 2.06 | O13: =IF(G13<($K$49+O$43),"",IF(G13>($L$49+O$43),"",G13)) -> 0.6 | P13: =IF(H13<($K$49+P$43),"",IF(H13>($L$49+P$43),"",H13)) -> 0.91 | Q13: =IF(I13<($K$49+Q$43),"",IF(I13>($L$49+Q$43),"",I13)) -> 1.22 | R13: =IF(J13<($K$49+R$43),"",IF(J13>($L$49+R$43),"",J13)) | S13: =IF(K13<($K$49+S$43),"",IF(K13>($L$49+S$43),"",K13)) | V13: =IF(W13<>"",$F13,IF(X13<>"",$F13,"")) | W13: =IF($G13<$K$49+$O$43,IF($G12>=$K$49+$O$43,$G13,""),"") | X13: =IF(W14<>"",$G13,"") | Y13: =IF(Z13<>"",$F13,IF(AA13<>"",$F13,"")) | Z13: =IF($H13<$K$49+$P$43,IF($H12>=$K$49+$P$43,$H13,""),"") | AA13: =IF(Z14<>"",$H13,"") | AB13: =IF(AC13<>"",$F13,IF(AD13<>"",$F13,"")) | AC13: =IF($I13<$K$49+$Q$43,IF($I12>=$K$49+$Q$43,$I13,""),"") | AD13: =IF(AC14<>"",$I13,"") | AE13: =IF(AF13<>"",$F13,IF(AG13<>"",$F13,"")) | AF13: =IF($J13<$K$49+$R$43,IF($J12>=$K$49+$R$43,$J13,""),"") | AG13: =IF(AF14<>"",$J13,"") | AH13: =IF(AI13<>"",$F13,IF(AJ13<>"",$F13,"")) | AI13: =IF($K13<$K$49+$S$43,IF($K12>=$K$49+$S$43,$K13,""),"") | AJ13: =IF(AI14<>"",$K13,"")
C14: =C13+1 -> 4 | D14: =D13+$C$49 -> 0.3 | E14: =D14 -> 0.3 | F14: =C$47-E14 -> 2.7 | G14: 0.58 | H14: 0.87 | I14: 1.17 | J14: 1.46 | K14: 1.99 | O14: =IF(G14<($K$49+O$43),"",IF(G14>($L$49+O$43),"",G14)) -> 0.58 | P14: =IF(H14<($K$49+P$43),"",IF(H14>($L$49+P$43),"",H14)) -> 0.87 | Q14: =IF(I14<($K$49+Q$43),"",IF(I14>($L$49+Q$43),"",I14)) -> 1.17 | R14: =IF(J14<($K$49+R$43),"",IF(J14>($L$49+R$43),"",J14)) | S14: =IF(K14<($K$49+S$43),"",IF(K14>($L$49+S$43),"",K14)) | V14: =IF(W14<>"",$F14,IF(X14<>"",$F14,"")) | W14: =IF($G14<$K$49+$O$43,IF($G13>=$K$49+$O$43,$G14,""),"") | X14: =IF(W15<>"",$G14,"") | Y14: =IF(Z14<>"",$F14,IF(AA14<>"",$F14,"")) | Z14: =IF($H14<$K$49+$P$43,IF($H13>=$K$49+$P$43,$H14,""),"") | AA14: =IF(Z15<>"",$H14,"") | AB14: =IF(AC14<>"",$F14,IF(AD14<>"",$F14,"")) | AC14: =IF($I14<$K$49+$Q$43,IF($I13>=$K$49+$Q$43,$I14,""),"") | AD14: =IF(AC15<>"",$I14,"") | AE14: =IF(AF14<>"",$F14,IF(AG14<>"",$F14,"")) | AF14: =IF($J14<$K$49+$R$43,IF($J13>=$K$49+$R$43,$J14,""),"") | AG14: =IF(AF15<>"",$J14,"") | AH14: =IF(AI14<>"",$F14,IF(AJ14<>"",$F14,"")) | AI14: =IF($K14<$K$49+$S$43,IF($K13>=$K$49+$S$43,$K14,""),"") | AJ14: =IF(AI15<>"",$K14,"")
C15: =C14+1 -> 5 | D15: =D14+$C$49 -> 0.4 | E15: =D15 -> 0.4 | F15: =C$47-E15 -> 2.6 | G15: 0.54 | H15: 0.83 | I15: 1.13 | J15: 1.41 | K15: 1.92 | O15: =IF(G15<($K$49+O$43),"",IF(G15>($L$49+O$43),"",G15)) -> 0.54 | P15: =IF(H15<($K$49+P$43),"",IF(H15>($L$49+P$43),"",H15)) -> 0.83 | Q15: =IF(I15<($K$49+Q$43),"",IF(I15>($L$49+Q$43),"",I15)) -> 1.13 | R15: =IF(J15<($K$49+R$43),"",IF(J15>($L$49+R$43),"",J15)) -> 1.41 | S15: =IF(K15<($K$49+S$43),"",IF(K15>($L$49+S$43),"",K15)) | V15: =IF(W15<>"",$F15,IF(X15<>"",$F15,"")) | W15: =IF($G15<$K$49+$O$43,IF($G14>=$K$49+$O$43,$G15,""),"") | X15: =IF(W16<>"",$G15,"") | Y15: =IF(Z15<>"",$F15,IF(AA15<>"",$F15,"")) | Z15: =IF($H15<$K$49+$P$43,IF($H14>=$K$49+$P$43,$H15,""),"") | AA15: =IF(Z16<>"",$H15,"") | AB15: =IF(AC15<>"",$F15,IF(AD15<>"",$F15,"")) | AC15: =IF($I15<$K$49+$Q$43,IF($I14>=$K$49+$Q$43,$I15,""),"") | AD15: =IF(AC16<>"",$I15,"") | AE15: =IF(AF15<>"",$F15,IF(AG15<>"",$F15,"")) | AF15: =IF($J15<$K$49+$R$43,IF($J14>=$K$49+$R$43,$J15,""),"") | AG15: =IF(AF16<>"",$J15,"") | AH15: =IF(AI15<>"",$F15,IF(AJ15<>"",$F15,"")) | AI15: =IF($K15<$K$49+$S$43,IF($K14>=$K$49+$S$43,$K15,""),"") | AJ15: =IF(AI16<>"",$K15,"")
C16: =C15+1 -> 6 | D16: =D15+$C$49 -> 0.5 | E16: =D16 -> 0.5 | F16: =C$47-E16 -> 2.5 | G16: 0.49 | H16: 0.79 | I16: 1.08 | J16: 1.37 | K16: 1.84 | O16: =IF(G16<($K$49+O$43),"",IF(G16>($L$49+O$43),"",G16)) -> 0.49 | P16: =IF(H16<($K$49+P$43),"",IF(H16>($L$49+P$43),"",H16)) -> 0.79 | Q16: =IF(I16<($K$49+Q$43),"",IF(I16>($L$49+Q$43),"",I16)) -> 1.08 | R16: =IF(J16<($K$49+R$43),"",IF(J16>($L$49+R$43),"",J16)) -> 1.37 | S16: =IF(K16<($K$49+S$43),"",IF(K16>($L$49+S$43),"",K16)) | V16: =IF(W16<>"",$F16,IF(X16<>"",$F16,"")) | W16: =IF($G16<$K$49+$O$43,IF($G15>=$K$49+$O$43,$G16,""),"") | X16: =IF(W17<>"",$G16,"") | Y16: =IF(Z16<>"",$F16,IF(AA16<>"",$F16,"")) | Z16: =IF($H16<$K$49+$P$43,IF($H15>=$K$49+$P$43,$H16,""),"") | AA16: =IF(Z17<>"",$H16,"") | AB16: =IF(AC16<>"",$F16,IF(AD16<>"",$F16,"")) | AC16: =IF($I16<$K$49+$Q$43,IF($I15>=$K$49+$Q$43,$I16,""),"") | AD16: =IF(AC17<>"",$I16,"") | AE16: =IF(AF16<>"",$F16,IF(AG16<>"",$F16,"")) | AF16: =IF($J16<$K$49+$R$43,IF($J15>=$K$49+$R$43,$J16,""),"") | AG16: =IF(AF17<>"",$J16,"") | AH16: =IF(AI16<>"",$F16,IF(AJ16<>"",$F16,"")) | AI16: =IF($K16<$K$49+$S$43,IF($K15>=$K$49+$S$43,$K16,""),"") | AJ16: =IF(AI17<>"",$K16,"")
C17: =C16+1 -> 7 | D17: =D16+$C$49 -> 0.6 | E17: =D17 -> 0.6 | F17: =C$47-E17 -> 2.4 | G17: 0.45 | H17: 0.74 | I17: 1.04 | J17: 1.32 | K17: 1.78 | O17: =IF(G17<($K$49+O$43),"",IF(G17>($L$49+O$43),"",G17)) -> 0.45 | P17: =IF(H17<($K$49+P$43),"",IF(H17>($L$49+P$43),"",H17)) -> 0.74 | Q17: =IF(I17<($K$49+Q$43),"",IF(I17>($L$49+Q$43),"",I17)) -> 1.04 | R17: =IF(J17<($K$49+R$43),"",IF(J17>($L$49+R$43),"",J17)) -> 1.32 | S17: =IF(K17<($K$49+S$43),"",IF(K17>($L$49+S$43),"",K17)) | V17: =IF(W17<>"",$F17,IF(X17<>"",$F17,"")) | W17: =IF($G17<$K$49+$O$43,IF($G16>=$K$49+$O$43,$G17,""),"") | X17: =IF(W18<>"",$G17,"") | Y17: =IF(Z17<>"",$F17,IF(AA17<>"",$F17,"")) | Z17: =IF($H17<$K$49+$P$43,IF($H16>=$K$49+$P$43,$H17,""),"") | AA17: =IF(Z18<>"",$H17,"") | AB17: =IF(AC17<>"",$F17,IF(AD17<>"",$F17,"")) | AC17: =IF($I17<$K$49+$Q$43,IF($I16>=$K$49+$Q$43,$I17,""),"") | AD17: =IF(AC18<>"",$I17,"") | AE17: =IF(AF17<>"",$F17,IF(AG17<>"",$F17,"")) | AF17: =IF($J17<$K$49+$R$43,IF($J16>=$K$49+$R$43,$J17,""),"") | AG17: =IF(AF18<>"",$J17,"") | AH17: =IF(AI17<>"",$F17,IF(AJ17<>"",$F17,"")) | AI17: =IF($K17<$K$49+$S$43,IF($K16>=$K$49+$S$43,$K17,""),"") | AJ17: =IF(AI18<>"",$K17,"")
C18: =C17+1 -> 8 | D18: =D17+$C$49 -> 0.7 | E18: =D18 -> 0.7 | F18: =C$47-E18 -> 2.3 | G18: 0.42 | H18: 0.68 | I18: 0.98 | J18: 1.26 | K18: 1.7 | O18: =IF(G18<($K$49+O$43),"",IF(G18>($L$49+O$43),"",G18)) -> 0.42 | P18: =IF(H18<($K$49+P$43),"",IF(H18>($L$49+P$43),"",H18)) -> 0.68 | Q18: =IF(I18<($K$49+Q$43),"",IF(I18>($L$49+Q$43),"",I18)) -> 0.98 | R18: =IF(J18<($K$49+R$43),"",IF(J18>($L$49+R$43),"",J18)) -> 1.26 | S18: =IF(K18<($K$49+S$43),"",IF(K18>($L$49+S$43),"",K18)) | V18: =IF(W18<>"",$F18,IF(X18<>"",$F18,"")) | W18: =IF($G18<$K$49+$O$43,IF($G17>=$K$49+$O$43,$G18,""),"") | X18: =IF(W19<>"",$G18,"") | Y18: =IF(Z18<>"",$F18,IF(AA18<>"",$F18,"")) | Z18: =IF($H18<$K$49+$P$43,IF($H17>=$K$49+$P$43,$H18,""),"") | AA18: =IF(Z19<>"",$H18,"") | AB18: =IF(AC18<>"",$F18,IF(AD18<>"",$F18,"")) | AC18: =IF($I18<$K$49+$Q$43,IF($I17>=$K$49+$Q$43,$I18,""),"") | AD18: =IF(AC19<>"",$I18,"") | AE18: =IF(AF18<>"",$F18,IF(AG18<>"",$F18,"")) | AF18: =IF($J18<$K$49+$R$43,IF($J17>=$K$49+$R$43,$J18,""),"") | AG18: =IF(AF19<>"",$J18,"") | AH18: =IF(AI18<>"",$F18,IF(AJ18<>"",$F18,"")) | AI18: =IF($K18<$K$49+$S$43,IF($K17>=$K$49+$S$43,$K18,""),"") | AJ18: =IF(AI19<>"",$K18,"")
C19: =C18+1 -> 9 | D19: =D18+$C$49 -> 0.8 | E19: =D19 -> 0.8 | F19: =C$47-E19 -> 2.2 | G19: 0.39 | H19: 0.64 | I19: 0.93 | J19: 1.21 | K19: 1.63 | O19: =IF(G19<($K$49+O$43),"",IF(G19>($L$49+O$43),"",G19)) -> 0.39 | P19: =IF(H19<($K$49+P$43),"",IF(H19>($L$49+P$43),"",H19)) -> 0.64 | Q19: =IF(I19<($K$49+Q$43),"",IF(I19>($L$49+Q$43),"",I19)) -> 0.93 | R19: =IF(J19<($K$49+R$43),"",IF(J19>($L$49+R$43),"",J19)) -> 1.21 | S19: =IF(K19<($K$49+S$43),"",IF(K19>($L$49+S$43),"",K19)) | V19: =IF(W19<>"",$F19,IF(X19<>"",$F19,"")) | W19: =IF($G19<$K$49+$O$43,IF($G18>=$K$49+$O$43,$G19,""),"") | X19: =IF(W20<>"",$G19,"") | Y19: =IF(Z19<>"",$F19,IF(AA19<>"",$F19,"")) | Z19: =IF($H19<$K$49+$P$43,IF($H18>=$K$49+$P$43,$H19,""),"") | AA19: =IF(Z20<>"",$H19,"") | AB19: =IF(AC19<>"",$F19,IF(AD19<>"",$F19,"")) | AC19: =IF($I19<$K$49+$Q$43,IF($I18>=$K$49+$Q$43,$I19,""),"") | AD19: =IF(AC20<>"",$I19,"") | AE19: =IF(AF19<>"",$F19,IF(AG19<>"",$F19,"")) | AF19: =IF($J19<$K$49+$R$43,IF($J18>=$K$49+$R$43,$J19,""),"") | AG19: =IF(AF20<>"",$J19,"") | AH19: =IF(AI19<>"",$F19,IF(AJ19<>"",$F19,"")) | AI19: =IF($K19<$K$49+$S$43,IF($K18>=$K$49+$S$43,$K19,""),"") | AJ19: =IF(AI20<>"",$K19,"")
C20: =C19+1 -> 10 | D20: =D19+$C$49 -> 0.9 | E20: =D20 -> 0.9 | F20: =C$47-E20 -> 2.1 | G20: 0.35 | H20: 0.59 | I20: 0.88 | J20: 1.14 | K20: 1.56 | O20: =IF(G20<($K$49+O$43),"",IF(G20>($L$49+O$43),"",G20)) -> 0.35 | P20: =IF(H20<($K$49+P$43),"",IF(H20>($L$49+P$43),"",H20)) -> 0.59 | Q20: =IF(I20<($K$49+Q$43),"",IF(I20>($L$49+Q$43),"",I20)) -> 0.88 | R20: =IF(J20<($K$49+R$43),"",IF(J20>($L$49+R$43),"",J20)) -> 1.14 | S20: =IF(K20<($K$49+S$43),"",IF(K20>($L$49+S$43),"",K20)) | V20: =IF(W20<>"",$F20,IF(X20<>"",$F20,"")) | W20: =IF($G20<$K$49+$O$43,IF($G19>=$K$49+$O$43,$G20,""),"") | X20: =IF(W21<>"",$G20,"") | Y20: =IF(Z20<>"",$F20,IF(AA20<>"",$F20,"")) | Z20: =IF($H20<$K$49+$P$43,IF($H19>=$K$49+$P$43,$H20,""),"") | AA20: =IF(Z21<>"",$H20,"") | AB20: =IF(AC20<>"",$F20,IF(AD20<>"",$F20,"")) | AC20: =IF($I20<$K$49+$Q$43,IF($I19>=$K$49+$Q$43,$I20,""),"") | AD20: =IF(AC21<>"",$I20,"") | AE20: =IF(AF20<>"",$F20,IF(AG20<>"",$F20,"")) | AF20: =IF($J20<$K$49+$R$43,IF($J19>=$K$49+$R$43,$J20,""),"") | AG20: =IF(AF21<>"",$J20,"") | AH20: =IF(AI20<>"",$F20,IF(AJ20<>"",$F20,"")) | AI20: =IF($K20<$K$49+$S$43,IF($K19>=$K$49+$S$43,$K20,""),"") | AJ20: =IF(AI21<>"",$K20,"")
C21: =C20+1 -> 11 | D21: =D20+$C$49 -> 1 | E21: =D21 -> 1 | F21: =C$47-E21 -> 2 | G21: 0.34 | H21: 0.55 | I21: 0.84 | J21: 1.08 | K21: 1.48 | O21: =IF(G21<($K$49+O$43),"",IF(G21>($L$49+O$43),"",G21)) -> 0.34 | P21: =IF(H21<($K$49+P$43),"",IF(H21>($L$49+P$43),"",H21)) -> 0.55 | Q21: =IF(I21<($K$49+Q$43),"",IF(I21>($L$49+Q$43),"",I21)) -> 0.84 | R21: =IF(J21<($K$49+R$43),"",IF(J21>($L$49+R$43),"",J21)) -> 1.08 | S21: =IF(K21<($K$49+S$43),"",IF(K21>($L$49+S$43),"",K21)) | V21: =IF(W21<>"",$F21,IF(X21<>"",$F21,"")) | W21: =IF($G21<$K$49+$O$43,IF($G20>=$K$49+$O$43,$G21,""),"") | X21: =IF(W22<>"",$G21,"") | Y21: =IF(Z21<>"",$F21,IF(AA21<>"",$F21,"")) | Z21: =IF($H21<$K$49+$P$43,IF($H20>=$K$49+$P$43,$H21,""),"") | AA21: =IF(Z22<>"",$H21,"") | AB21: =IF(AC21<>"",$F21,IF(AD21<>"",$F21,"")) | AC21: =IF($I21<$K$49+$Q$43,IF($I20>=$K$49+$Q$43,$I21,""),"") | AD21: =IF(AC22<>"",$I21,"") | AE21: =IF(AF21<>"",$F21,IF(AG21<>"",$F21,"")) | AF21: =IF($J21<$K$49+$R$43,IF($J20>=$K$49+$R$43,$J21,""),"") | AG21: =IF(AF22<>"",$J21,"") | AH21: =IF(AI21<>"",$F21,IF(AJ21<>"",$F21,"")) | AI21: =IF($K21<$K$49+$S$43,IF($K20>=$K$49+$S$43,$K21,""),"") | AJ21: =IF(AI22<>"",$K21,"")
C22: =C21+1 -> 12 | D22: =D21+$C$49 -> 1.1 | E22: =D22 -> 1.1 | F22: =C$47-E22 -> 1.9 | G22: 0.3 | H22: 0.5 | I22: 0.79 | J22: 1.01 | K22: 1.41 | O22: =IF(G22<($K$49+O$43),"",IF(G22>($L$49+O$43),"",G22)) -> 0.3 | P22: =IF(H22<($K$49+P$43),"",IF(H22>($L$49+P$43),"",H22)) -> 0.5 | Q22: =IF(I22<($K$49+Q$43),"",IF(I22>($L$49+Q$43),"",I22)) -> 0.79 | R22: =IF(J22<($K$49+R$43),"",IF(J22>($L$49+R$43),"",J22)) -> 1.01 | S22: =IF(K22<($K$49+S$43),"",IF(K22>($L$49+S$43),"",K22)) -> 1.41 | V22: =IF(W22<>"",$F22,IF(X22<>"",$F22,"")) | W22: =IF($G22<$K$49+$O$43,IF($G21>=$K$49+$O$43,$G22,""),"") | X22: =IF(W23<>"",$G22,"") | Y22: =IF(Z22<>"",$F22,IF(AA22<>"",$F22,"")) | Z22: =IF($H22<$K$49+$P$43,IF($H21>=$K$49+$P$43,$H22,""),"") | AA22: =IF(Z23<>"",$H22,"") | AB22: =IF(AC22<>"",$F22,IF(AD22<>"",$F22,"")) | AC22: =IF($I22<$K$49+$Q$43,IF($I21>=$K$49+$Q$43,$I22,""),"") | AD22: =IF(AC23<>"",$I22,"") | AE22: =IF(AF22<>"",$F22,IF(AG22<>"",$F22,"")) | AF22: =IF($J22<$K$49+$R$43,IF($J21>=$K$49+$R$43,$J22,""),"") | AG22: =IF(AF23<>"",$J22,"") | AH22: =IF(AI22<>"",$F22,IF(AJ22<>"",$F22,"")) | AI22: =IF($K22<$K$49+$S$43,IF($K21>=$K$49+$S$43,$K22,""),"") | AJ22: =IF(AI23<>"",$K22,"")
C23: =C22+1 -> 13 | D23: =D22+$C$49 -> 1.2 | E23: =D23 -> 1.2 | F23: =C$47-E23 -> 1.8 | G23: 0.27 | H23: 0.46 | I23: 0.72 | J23: 0.94 | K23: 1.33 | O23: =IF(G23<($K$49+O$43),"",IF(G23>($L$49+O$43),"",G23)) -> 0.27 | P23: =IF(H23<($K$49+P$43),"",IF(H23>($L$49+P$43),"",H23)) -> 0.46 | Q23: =IF(I23<($K$49+Q$43),"",IF(I23>($L$49+Q$43),"",I23)) -> 0.72 | R23: =IF(J23<($K$49+R$43),"",IF(J23>($L$49+R$43),"",J23)) -> 0.94 | S23: =IF(K23<($K$49+S$43),"",IF(K23>($L$49+S$43),"",K23)) -> 1.33 | V23: =IF(W23<>"",$F23,IF(X23<>"",$F23,"")) | W23: =IF($G23<$K$49+$O$43,IF($G22>=$K$49+$O$43,$G23,""),"") | X23: =IF(W24<>"",$G23,"") | Y23: =IF(Z23<>"",$F23,IF(AA23<>"",$F23,"")) | Z23: =IF($H23<$K$49+$P$43,IF($H22>=$K$49+$P$43,$H23,""),"") | AA23: =IF(Z24<>"",$H23,"") | AB23: =IF(AC23<>"",$F23,IF(AD23<>"",$F23,"")) | AC23: =IF($I23<$K$49+$Q$43,IF($I22>=$K$49+$Q$43,$I23,""),"") | AD23: =IF(AC24<>"",$I23,"") | AE23: =IF(AF23<>"",$F23,IF(AG23<>"",$F23,"")) | AF23: =IF($J23<$K$49+$R$43,IF($J22>=$K$49+$R$43,$J23,""),"") | AG23: =IF(AF24<>"",$J23,"") | AH23: =IF(AI23<>"",$F23,IF(AJ23<>"",$F23,"")) | AI23: =IF($K23<$K$49+$S$43,IF($K22>=$K$49+$S$43,$K23,""),"") | AJ23: =IF(AI24<>"",$K23,"")
... C31: =C30+1 -> 21 | D31: =D30+$C$49 -> 2 | E31: =D31 -> 2 | F31: =C$47-E31 -> 1 | G31: 0.07 | H31: 0.16 | I31: 0.3 | J31: 0.42 | K31: 0.53 | O31: =IF(G31<($K$49+O$43),"",IF(G31>($L$49+O$43),"",G31)) | P31: =IF(H31<($K$49+P$43),"",IF(H31>($L$49+P$43),"",H31)) | Q31: =IF(I31<($K$49+Q$43),"",IF(I31>($L$49+Q$43),"",I31)) -> 0.3 | R31: =IF(J31<($K$49+R$43),"",IF(J31>($L$49+R$43),"",J31)) -> 0.42 | S31: =IF(K31<($K$49+S$43),"",IF(K31>($L$49+S$43),"",K31)) -> 0.53 | V31: =IF(W31<>"",$F31,IF(X31<>"",$F31,"")) | W31: =IF($G31<$K$49+$O$43,IF($G30>=$K$49+$O$43,$G31,""),"") | X31: =IF(W32<>"",$G31,"") | Y31: =IF(Z31<>"",$F31,IF(AA31<>"",$F31,"")) | Z31: =IF($H31<$K$49+$P$43,IF($H30>=$K$49+$P$43,$H31,""),"") | AA31: =IF(Z32<>"",$H31,"") | AB31: =IF(AC31<>"",$F31,IF(AD31<>"",$F31,"")) | AC31: =IF($I31<$K$49+$Q$43,IF($I30>=$K$49+$Q$43,$I31,""),"") | AD31: =IF(AC32<>"",$I31,"") | AE31: =IF(AF31<>"",$F31,IF(AG31<>"",$F31,"")) | AF31: =IF($J31<$K$49+$R$43,IF($J30>=$K$49+$R$43,$J31,""),"") | AG31: =IF(AF32<>"",$J31,"") | AH31: =IF(AI31<>"",$F31,IF(AJ31<>"",$F31,"")) | AI31: =IF($K31<$K$49+$S$43,IF($K30>=$K$49+$S$43,$K31,""),"") | AJ31: =IF(AI32<>"",$K31,"")
C32: =C31+1 -> 22 | D32: =IF(C$48>21,D31+$C$49,"") -> 2.1 | E32: =D32 -> 2.1 | F32: =IF(C$48>21,C$47-E32,0) -> 0.9 | G32: 0.06 | H32: 0.12 | I32: 0.24 | J32: 0.34 | K32: 0.42 | O32: =IF(G32<($K$49+O$43),"",IF(G32>($L$49+O$43),"",G32)) | P32: =IF(H32<($K$49+P$43),"",IF(H32>($L$49+P$43),"",H32)) | Q32: =IF(I32<($K$49+Q$43),"",IF(I32>($L$49+Q$43),"",I32)) -> 0.24 | R32: =IF(J32<($K$49+R$43),"",IF(J32>($L$49+R$43),"",J32)) -> 0.34 | S32: =IF(K32<($K$49+S$43),"",IF(K32>($L$49+S$43),"",K32)) -> 0.42 | V32: =IF(W32<>"",$F32,IF(X32<>"",$F32,"")) | W32: =IF($G32<$K$49+$O$43,IF($G31>=$K$49+$O$43,$G32,""),"") | X32: =IF(W33<>"",$G32,"") | Y32: =IF(Z32<>"",$F32,IF(AA32<>"",$F32,"")) | Z32: =IF($H32<$K$49+$P$43,IF($H31>=$K$49+$P$43,$H32,""),"") | AA32: =IF(Z33<>"",$H32,"") | AB32: =IF(AC32<>"",$F32,IF(AD32<>"",$F32,"")) -> 0.9 | AC32: =IF($I32<$K$49+$Q$43,IF($I31>=$K$49+$Q$43,$I32,""),"") | AD32: =IF(AC33<>"",$I32,"") -> 0.24 | AE32: =IF(AF32<>"",$F32,IF(AG32<>"",$F32,"")) | AF32: =IF($J32<$K$49+$R$43,IF($J31>=$K$49+$R$43,$J32,""),"") | AG32: =IF(AF33<>"",$J32,"") | AH32: =IF(AI32<>"",$F32,IF(AJ32<>"",$F32,"")) | AI32: =IF($K32<$K$49+$S$43,IF($K31>=$K$49+$S$43,$K32,""),"") | AJ32: =IF(AI33<>"",$K32,"")
C33: =C32+1 -> 23 | D33: =IF(C$48>21,D32+$C$49,"") -> 2.2 | E33: =D33 -> 2.2 | F33: =IF(C$48>21,C$47-E33,0) -> 0.8 | G33: 0.04 | H33: 0.1 | I33: 0.19 | J33: 0.27 | K33: 0.34 | O33: =IF(G33<($K$49+O$43),"",IF(G33>($L$49+O$43),"",G33)) | P33: =IF(H33<($K$49+P$43),"",IF(H33>($L$49+P$43),"",H33)) | Q33: =IF(I33<($K$49+Q$43),"",IF(I33>($L$49+Q$43),"",I33)) | R33: =IF(J33<($K$49+R$43),"",IF(J33>($L$49+R$43),"",J33)) -> 0.27 | S33: =IF(K33<($K$49+S$43),"",IF(K33>($L$49+S$43),"",K33)) -> 0.34 | V33: =IF(W33<>"",$F33,IF(X33<>"",$F33,"")) | W33: =IF($G33<$K$49+$O$43,IF($G32>=$K$49+$O$43,$G33,""),"") | X33: =IF(W34<>"",$G33,"") | Y33: =IF(Z33<>"",$F33,IF(AA33<>"",$F33,"")) | Z33: =IF($H33<$K$49+$P$43,IF($H32>=$K$49+$P$43,$H33,""),"") | AA33: =IF(Z34<>"",$H33,"") | AB33: =IF(AC33<>"",$F33,IF(AD33<>"",$F33,"")) -> 0.8 | AC33: =IF($I33<$K$49+$Q$43,IF($I32>=$K$49+$Q$43,$I33,""),"") -> 0.19 | AD33: =IF(AC34<>"",$I33,"") | AE33: =IF(AF33<>"",$F33,IF(AG33<>"",$F33,"")) | AF33: =IF($J33<$K$49+$R$43,IF($J32>=$K$49+$R$43,$J33,""),"") | AG33: =IF(AF34<>"",$J33,"") | AH33: =IF(AI33<>"",$F33,IF(AJ33<>"",$F33,"")) | AI33: =IF($K33<$K$49+$S$43,IF($K32>=$K$49+$S$43,$K33,""),"") | AJ33: =IF(AI34<>"",$K33,"")
C34: =C33+1 -> 24 | D34: =IF(C$48>21,D33+$C$49,"") -> 2.3 | E34: =D34 -> 2.3 | F34: =IF(C$48>21,C$47-E34,0) -> 0.7 | G34: 0.03 | H34: 0.07 | I34: 0.14 | J34: 0.21 | K34: 0.26 | O34: =IF(G34<($K$49+O$43),"",IF(G34>($L$49+O$43),"",G34)) | P34: =IF(H34<($K$49+P$43),"",IF(H34>($L$49+P$43),"",H34)) | Q34: =IF(I34<($K$49+Q$43),"",IF(I34>($L$49+Q$43),"",I34)) | R34: =IF(J34<($K$49+R$43),"",IF(J34>($L$49+R$43),"",J34)) -> 0.21 | S34: =IF(K34<($K$49+S$43),"",IF(K34>($L$49+S$43),"",K34)) -> 0.26 | V34: =IF(W34<>"",$F34,IF(X34<>"",$F34,"")) | W34: =IF($G34<$K$49+$O$43,IF($G33>=$K$49+$O$43,$G34,""),"") | X34: =IF(W35<>"",$G34,"") | Y34: =IF(Z34<>"",$F34,IF(AA34<>"",$F34,"")) | Z34: =IF($H34<$K$49+$P$43,IF($H33>=$K$49+$P$43,$H34,""),"") | AA34: =IF(Z35<>"",$H34,"") | AB34: =IF(AC34<>"",$F34,IF(AD34<>"",$F34,"")) | AC34: =IF($I34<$K$49+$Q$43,IF($I33>=$K$49+$Q$43,$I34,""),"") | AD34: =IF(AC35<>"",$I34,"") | AE34: =IF(AF34<>"",$F34,IF(AG34<>"",$F34,"")) -> 0.7 | AF34: =IF($J34<$K$49+$R$43,IF($J33>=$K$49+$R$43,$J34,""),"") | AG34: =IF(AF35<>"",$J34,"") -> 0.21 | AH34: =IF(AI34<>"",$F34,IF(AJ34<>"",$F34,"")) -> 0.7 | AI34: =IF($K34<$K$49+$S$43,IF($K33>=$K$49+$S$43,$K34,""),"") | AJ34: =IF(AI35<>"",$K34,"") -> 0.26
C35: =C34+1 -> 25 | D35: =IF(C$48>21,D34+$C$49,"") -> 2.4 | E35: =D35 -> 2.4 | F35: =IF(C$48>21,C$47-E35,0) -> 0.6 | G35: 0.03 | H35: 0.05 | I35: 0.1 | J35: 0.14 | K35: 0.18 | O35: =IF(G35<($K$49+O$43),"",IF(G35>($L$49+O$43),"",G35)) | P35: =IF(H35<($K$49+P$43),"",IF(H35>($L$49+P$43),"",H35)) | Q35: =IF(I35<($K$49+Q$43),"",IF(I35>($L$49+Q$43),"",I35)) | R35: =IF(J35<($K$49+R$43),"",IF(J35>($L$49+R$43),"",J35)) | S35: =IF(K35<($K$49+S$43),"",IF(K35>($L$49+S$43),"",K35)) | V35: =IF(W35<>"",$F35,IF(X35<>"",$F35,"")) | W35: =IF($G35<$K$49+$O$43,IF($G34>=$K$49+$O$43,$G35,""),"") | X35: =IF(W36<>"",$G35,"") | Y35: =IF(Z35<>"",$F35,IF(AA35<>"",$F35,"")) | Z35: =IF($H35<$K$49+$P$43,IF($H34>=$K$49+$P$43,$H35,""),"") | AA35: =IF(Z36<>"",$H35,"") | AB35: =IF(AC35<>"",$F35,IF(AD35<>"",$F35,"")) | AC35: =IF($I35<$K$49+$Q$43,IF($I34>=$K$49+$Q$43,$I35,""),"") | AD35: =IF(AC36<>"",$I35,"") | AE35: =IF(AF35<>"",$F35,IF(AG35<>"",$F35,"")) -> 0.6 | AF35: =IF($J35<$K$49+$R$43,IF($J34>=$K$49+$R$43,$J35,""),"") -> 0.14 | AG35: =IF(AF36<>"",$J35,"") | AH35: =IF(AI35<>"",$F35,IF(AJ35<>"",$F35,"")) -> 0.6 | AI35: =IF($K35<$K$49+$S$43,IF($K34>=$K$49+$S$43,$K35,""),"") -> 0.18 | AJ35: =IF(AI36<>"",$K35,"")
C36: =C35+1 -> 26 | D36: =IF(C$48>21,D35+$C$49,"") -> 2.5 | E36: =D36 -> 2.5 | F36: =IF(C$48>21,C$47-E36,0) -> 0.5 | G36: 0.03 | H36: 0.04 | I36: 0.07 | J36: 0.1 | K36: 0.13 | O36: =IF(G36<($K$49+O$43),"",IF(G36>($L$49+O$43),"",G36)) | P36: =IF(H36<($K$49+P$43),"",IF(H36>($L$49+P$43),"",H36)) | Q36: =IF(I36<($K$49+Q$43),"",IF(I36>($L$49+Q$43),"",I36)) | R36: =IF(J36<($K$49+R$43),"",IF(J36>($L$49+R$43),"",J36)) | S36: =IF(K36<($K$49+S$43),"",IF(K36>($L$49+S$43),"",K36)) | V36: =IF(W36<>"",$F36,IF(X36<>"",$F36,"")) | W36: =IF($G36<$K$49+$O$43,IF($G35>=$K$49+$O$43,$G36,""),"") | X36: =IF(W37<>"",$G36,"") | Y36: =IF(Z36<>"",$F36,IF(AA36<>"",$F36,"")) | Z36: =IF($H36<$K$49+$P$43,IF($H35>=$K$49+$P$43,$H36,""),"") | AA36: =IF(Z37<>"",$H36,"") | AB36: =IF(AC36<>"",$F36,IF(AD36<>"",$F36,"")) | AC36: =IF($I36<$K$49+$Q$43,IF($I35>=$K$49+$Q$43,$I36,""),"") | AD36: =IF(AC37<>"",$I36,"") | AE36: =IF(AF36<>"",$F36,IF(AG36<>"",$F36,"")) | AF36: =IF($J36<$K$49+$R$43,IF($J35>=$K$49+$R$43,$J36,""),"") | AG36: =IF(AF37<>"",$J36,"") | AH36: =IF(AI36<>"",$F36,IF(AJ36<>"",$F36,"")) | AI36: =IF($K36<$K$49+$S$43,IF($K35>=$K$49+$S$43,$K36,""),"") | AJ36: =IF(AI37<>"",$K36,"")
C37: =C36+1 -> 27 | D37: =IF(C$48>21,D36+$C$49,"") -> 2.6 | E37: =D37 -> 2.6 | F37: =IF(C$48>21,C$47-E37,0) -> 0.4 | G37: 0.03 | H37: 0.04 | I37: 0.06 | J37: 0.08 | K37: 0.1 | O37: =IF(G37<($K$49+O$43),"",IF(G37>($L$49+O$43),"",G37)) | P37: =IF(H37<($K$49+P$43),"",IF(H37>($L$49+P$43),"",H37)) | Q37: =IF(I37<($K$49+Q$43),"",IF(I37>($L$49+Q$43),"",I37)) | R37: =IF(J37<($K$49+R$43),"",IF(J37>($L$49+R$43),"",J37)) | S37: =IF(K37<($K$49+S$43),"",IF(K37>($L$49+S$43),"",K37)) | V37: =IF(W37<>"",$F37,IF(X37<>"",$F37,"")) | W37: =IF($G37<$K$49+$O$43,IF($G36>=$K$49+$O$43,$G37,""),"") | X37: =IF(W38<>"",$G37,"") | Y37: =IF(Z37<>"",$F37,IF(AA37<>"",$F37,"")) | Z37: =IF($H37<$K$49+$P$43,IF($H36>=$K$49+$P$43,$H37,""),"") | AA37: =IF(Z38<>"",$H37,"") | AB37: =IF(AC37<>"",$F37,IF(AD37<>"",$F37,"")) | AC37: =IF($I37<$K$49+$Q$43,IF($I36>=$K$49+$Q$43,$I37,""),"") | AD37: =IF(AC38<>"",$I37,"") | AE37: =IF(AF37<>"",$F37,IF(AG37<>"",$F37,"")) | AF37: =IF($J37<$K$49+$R$43,IF($J36>=$K$49+$R$43,$J37,""),"") | AG37: =IF(AF38<>"",$J37,"") | AH37: =IF(AI37<>"",$F37,IF(AJ37<>"",$F37,"")) | AI37: =IF($K37<$K$49+$S$43,IF($K36>=$K$49+$S$43,$K37,""),"") | AJ37: =IF(AI38<>"",$K37,"")
C38: =C37+1 -> 28 | D38: =IF(C$48>21,D37+$C$49,"") -> 2.7 | E38: =D38 -> 2.7 | F38: =IF(C$48>21,C$47-E38,0) -> 0.3 | G38: 0.02 | H38: 0.03 | I38: 0.05 | J38: 0.06 | K38: 0.07 | O38: =IF(G38<($K$49+O$43),"",IF(G38>($L$49+O$43),"",G38)) | P38: =IF(H38<($K$49+P$43),"",IF(H38>($L$49+P$43),"",H38)) | Q38: =IF(I38<($K$49+Q$43),"",IF(I38>($L$49+Q$43),"",I38)) | R38: =IF(J38<($K$49+R$43),"",IF(J38>($L$49+R$43),"",J38)) | S38: =IF(K38<($K$49+S$43),"",IF(K38>($L$49+S$43),"",K38)) | V38: =IF(W38<>"",$F38,IF(X38<>"",$F38,"")) | W38: =IF($G38<$K$49+$O$43,IF($G37>=$K$49+$O$43,$G38,""),"") | X38: =IF(W39<>"",$G38,"") | Y38: =IF(Z38<>"",$F38,IF(AA38<>"",$F38,"")) | Z38: =IF($H38<$K$49+$P$43,IF($H37>=$K$49+$P$43,$H38,""),"") | AA38: =IF(Z39<>"",$H38,"") | AB38: =IF(AC38<>"",$F38,IF(AD38<>"",$F38,"")) | AC38: =IF($I38<$K$49+$Q$43,IF($I37>=$K$49+$Q$43,$I38,""),"") | AD38: =IF(AC39<>"",$I38,"") | AE38: =IF(AF38<>"",$F38,IF(AG38<>"",$F38,"")) | AF38: =IF($J38<$K$49+$R$43,IF($J37>=$K$49+$R$43,$J38,""),"") | AG38: =IF(AF39<>"",$J38,"") | AH38: =IF(AI38<>"",$F38,IF(AJ38<>"",$F38,"")) | AI38: =IF($K38<$K$49+$S$43,IF($K37>=$K$49+$S$43,$K38,""),"") | AJ38: =IF(AI39<>"",$K38,"")
C39: =C38+1 -> 29 | D39: =IF(C$48>21,D38+$C$49,"") -> 2.8 | E39: =D39 -> 2.8 | F39: =IF(C$48>21,C$47-E39,0) -> 0.2 | G39: 0.02 | H39: 0.03 | I39: 0.04 | J39: 0.05 | K39: 0.06 | O39: =IF(G39<($K$49+O$43),"",IF(G39>($L$49+O$43),"",G39)) | P39: =IF(H39<($K$49+P$43),"",IF(H39>($L$49+P$43),"",H39)) | Q39: =IF(I39<($K$49+Q$43),"",IF(I39>($L$49+Q$43),"",I39)) | R39: =IF(J39<($K$49+R$43),"",IF(J39>($L$49+R$43),"",J39)) | S39: =IF(K39<($K$49+S$43),"",IF(K39>($L$49+S$43),"",K39)) | V39: =IF(W39<>"",$F39,IF(X39<>"",$F39,"")) | W39: =IF($G39<$K$49+$O$43,IF($G38>=$K$49+$O$43,$G39,""),"") | X39: =IF(W40<>"",$G39,"") | Y39: =IF(Z39<>"",$F39,IF(AA39<>"",$F39,"")) | Z39: =IF($H39<$K$49+$P$43,IF($H38>=$K$49+$P$43,$H39,""),"") | AA39: =IF(Z40<>"",$H39,"") | AB39: =IF(AC39<>"",$F39,IF(AD39<>"",$F39,"")) | AC39: =IF($I39<$K$49+$Q$43,IF($I38>=$K$49+$Q$43,$I39,""),"") | AD39: =IF(AC40<>"",$I39,"") | AE39: =IF(AF39<>"",$F39,IF(AG39<>"",$F39,"")) | AF39: =IF($J39<$K$49+$R$43,IF($J38>=$K$49+$R$43,$J39,""),"") | AG39: =IF(AF40<>"",$J39,"") | AH39: =IF(AI39<>"",$F39,IF(AJ39<>"",$F39,"")) | AI39: =IF($K39<$K$49+$S$43,IF($K38>=$K$49+$S$43,$K39,""),"") | AJ39: =IF(AI40<>"",$K39,"")
C40: =C39+1 -> 30 | D40: =IF(C$48>21,D39+$C$49,"") -> 2.9 | E40: =D40 -> 2.9 | F40: =IF(C$48>21,C$47-E40,0) -> 0.1 | G40: 0.02 | H40: 0.03 | I40: 0.04 | J40: 0.04 | K40: 0.05 | O40: =IF(G40<($K$49+O$43),"",IF(G40>($L$49+O$43),"",G40)) | P40: =IF(H40<($K$49+P$43),"",IF(H40>($L$49+P$43),"",H40)) | Q40: =IF(I40<($K$49+Q$43),"",IF(I40>($L$49+Q$43),"",I40)) | R40: =IF(J40<($K$49+R$43),"",IF(J40>($L$49+R$43),"",J40)) | S40: =IF(K40<($K$49+S$43),"",IF(K40>($L$49+S$43),"",K40)) | V40: =IF(W40<>"",$F40,IF(X40<>"",$F40,"")) | W40: =IF($G40<$K$49+$O$43,IF($G39>=$K$49+$O$43,$G40,""),"") | X40: =IF(W41<>"",$G40,"") | Y40: =IF(Z40<>"",$F40,IF(AA40<>"",$F40,"")) | Z40: =IF($H40<$K$49+$P$43,IF($H39>=$K$49+$P$43,$H40,""),"") | AA40: =IF(Z41<>"",$H40,"") | AB40: =IF(AC40<>"",$F40,IF(AD40<>"",$F40,"")) | AC40: =IF($I40<$K$49+$Q$43,IF($I39>=$K$49+$Q$43,$I40,""),"") | AD40: =IF(AC41<>"",$I40,"") | AE40: =IF(AF40<>"",$F40,IF(AG40<>"",$F40,"")) | AF40: =IF($J40<$K$49+$R$43,IF($J39>=$K$49+$R$43,$J40,""),"") | AG40: =IF(AF41<>"",$J40,"") | AH40: =IF(AI40<>"",$F40,IF(AJ40<>"",$F40,"")) | AI40: =IF($K40<$K$49+$S$43,IF($K39>=$K$49+$S$43,$K40,""),"") | AJ40: =IF(AI41<>"",$K40,"")
C41: =C40+1 -> 31 | D41: =IF(C$48>21,D40+$C$49,"") -> 3 | E41: =D41 -> 3 | F41: =IF(C$48>21,C$47-E41,0) -> -1.3322676e-15 | G41: 0.02 | H41: 0.03 | I41: 0.03 | J41: 0.04 | K41: 0.04 | O41: =IF(G41<($K$49+O$43),"",IF(G41>($L$49+O$43),"",G41)) | P41: =IF(H41<($K$49+P$43),"",IF(H41>($L$49+P$43),"",H41)) | Q41: =IF(I41<($K$49+Q$43),"",IF(I41>($L$49+Q$43),"",I41)) | R41: =IF(J41<($K$49+R$43),"",IF(J41>($L$49+R$43),"",J41)) | S41: =IF(K41<($K$49+S$43),"",IF(K41>($L$49+S$43),"",K41)) | V41: =IF(W41<>"",$F41,IF(X41<>"",$F41,"")) | W41: =IF($G41<$K$49+$O$43,IF($G40>=$K$49+$O$43,$G41,""),"") | Y41: =IF(Z41<>"",$F41,IF(AA41<>"",$F41,"")) | Z41: =IF($H41<$K$49+$P$43,IF($H40>=$K$49+$P$43,$H41,""),"") | AB41: =IF(AC41<>"",$F41,IF(AD41<>"",$F41,"")) | AC41: =IF($I41<$K$49+$Q$43,IF($I40>=$K$49+$Q$43,$I41,""),"") | AE41: =IF(AF41<>"",$F41,IF(AG41<>"",$F41,"")) | AF41: =IF($J41<$K$49+$R$43,IF($J40>=$K$49+$R$43,$J41,""),"") | AH41: =IF(AI41<>"",$F41,IF(AJ41<>"",$F41,"")) | AI41: =IF($K41<$K$49+$S$43,IF($K40>=$K$49+$S$43,$K41,""),"")
F43: film: | G43: Kodak TMax-100 | N43: fog | O43: =MIN(G$11:G$41) -> 0.02 | P43: =MIN(H$11:H$41) -> 0.03 | Q43: =MIN(I$11:I$41) -> 0.03 | R43: =MIN(J$11:J$41) -> 0.04 | S43: =MIN(K$11:K$41) -> 0.04
F44: format: | G44: 4x5 sheet film | N44: min | O44: =MIN(O11:O41) -> 0.2 | P44: =MIN(P11:P41) -> 0.22 | Q44: =MIN(Q11:Q41) -> 0.24 | R44: =MIN(R11:R41) -> 0.21 | S44: =MIN(S11:S41) -> 0.26
F45: developer: | G45: Ilford ID-11 | N45: max | O45: =MAX(O11:O41) -> 0.69 | P45: =MAX(P11:P41) -> 0.98 | Q45: =MAX(Q11:Q41) -> 1.33 | R45: =MAX(R11:R41) -> 1.41 | S45: =MAX(S11:S41) -> 1.41
A46: Stouffer Step Tablet | F46: dilution: | G46: 1+1 | N46: rangeD | O46: =O45-O44 -> 0.49 | P46: =P45-P44 -> 0.76 | Q46: =Q45-Q44 -> 1.09 | R46: =R45-R44 -> 1.2 | S46: =S45-S44 -> 1.15 | V46: =MAX(V11:V41) -> 1.6 | W46: =MAX(X11:X41) -> 0.2 | Y46: =MAX(Y11:Y41) -> 1.2 | Z46: =MAX(AA11:AA41) -> 0.22 | AB46: =MAX(AB11:AB41) -> 0.9 | AC46: =MAX(AD11:AD41) -> 0.24 | AE46: =MAX(AE11:AE41) -> 0.7 | AF46: =MAX(AG11:AG41) -> 0.21 | AH46: =MAX(AH11:AH41) -> 0.7 | AI46: =MAX(AJ11:AJ41) -> 0.26
B47: max density: | C47: =(C48-1)*C49 -> 3 | F47: temperature: | G47: 20°C | K47: relative | N47: rangeH | O47: =(COUNT(O11:O41)-1)*$C49 -> 1.4 | P47: =(COUNT(P11:P41)-1)*$C49 -> 1.8 | Q47: =(COUNT(Q11:Q41)-1)*$C49 -> 2.1 | R47: =(COUNT(R11:R41)-1)*$C49 -> 1.9 | S47: =(COUNT(S11:S41)-1)*$C49 -> 1.2 | V47: =MIN(V12:V42) -> 1.5 | W47: =MAX(W11:W41) -> 0.18 | Y47: =MIN(Y12:Y42) -> 1.1 | Z47: =MAX(Z11:Z41) -> 0.18 | AB47: =MIN(AB12:AB42) -> 0.8 | AC47: =MAX(AC11:AC41) -> 0.19 | AE47: =MIN(AE12:AE42) -> 0.6 | AF47: =MAX(AF11:AF41) -> 0.14 | AH47: =MIN(AH12:AH42) -> 0.6 | AI47: =MAX(AI11:AI41) -> 0.18
B48: # steps: | C48: 31 | F48: agitation: | G48: rotation processing | K48: Dmin | L48: Dmax | N48: avgG | O48: =O46/O47 -> 0.35 | P48: =P46/P47 -> 0.42222222 | Q48: =Q46/Q47 -> 0.51904762 | R48: =R46/R47 -> 0.63157895 | S48: =S46/S47 -> 0.95833333 | U48: logH min | V48: =(W48-W47)*(V46-V47)/(W46-W47)+V47 -> 1.55 | W48: =$K$49+O$43 -> 0.19 | Y48: =(Z48-Z47)*(Y46-Y47)/(Z46-Z47)+Y47 -> 1.15 | Z48: =$K$49+P$43 -> 0.2 | AB48: =(AC48-AC47)*(AB46-AB47)/(AC46-AC47)+AB47 -> 0.82 | AC48: =$K$49+Q$43 -> 0.2 | AE48: =(AF48-AF47)*(AE46-AE47)/(AF46-AF47)+AE47 -> 0.7 | AF48: =$K$49+R$43 -> 0.21 | AH48: =(AI48-AI47)*(AH46-AH47)/(AI46-AI47)+AH47 -> 0.6375 | AI48: =$K$49+S$43 -> 0.21
B49: increments: | C49: =IF(C48=21,X1,X2) -> 0.1 | F49: date: | G49: 39057 | K49: 0.17 | L49: 1.37

Sheet Curve 1
A1: =CONCATENATE('Input Data'!G$43,", ",'Input Data'!G$45,", ",'Input Data'!G$46," @",'Input Data'!G$47,", ",'Input Data'!G$48) -> Kodak TMax-100, Ilford ID-11, 1+1 @20°C, rotation processing
A2: =CONCATENATE('Input Data'!G10," minutes") -> 4 minutes
K41: prop | L41: adjust
J42: base+fog: | K42: ='Input Data'!O43 -> 0.02 | N42: =$K$45 -> 1.55 | O42: =$K$43-0.25 -> -0.06 | Q42: =$K$45 -> 1.55 | R42: =$K$43-0.05 -> 0.14
J43: absolute Dmin: | K43: ='Input Data'!K49+K42 -> 0.19 | N43: =$K$45 -> 1.55 | O43: =$K$43+0.25 -> 0.44 | Q43: =$K$45 -> 1.55 | R43: =$K$43+0.05 -> 0.24
J44: absolute Dmax: | K44: ='Input Data'!L49+K42 -> 1.39 | N44: =$K$45-0.25 -> 1.3 | O44: =$K$43 -> 0.19 | Q44: =$K$45-0.05 -> 1.5 | R44: =$K$43 -> 0.19
J45: logH min: | K45: ='Input Data'!V48 -> 1.55 | N45: =$K$45+0.25 -> 1.8 | O45: =$K$43 -> 0.19 | Q45: =$K$45+0.05 -> 1.6 | R45: =$K$43 -> 0.19
J46: logH max: | K46: =K45+K47 -> 4.9785714 | L46: =K45+L47 -> 4.9785714 | N46: =L$46 -> 4.9785714 | O46: =K$44+0.25 -> 1.64
J47: logH range: | K47: =(K44-K43)/K48 -> 3.4285714 | L47: =(K44-K43)/L48 -> 3.4285714 | N47: =L$46 -> 4.9785714 | O47: =K$44-0.25 -> 1.14
J48: avg gradient: | K48: ='Input Data'!O48 -> 0.35 | L48: =K48 -> 0.35 | N48: =L$46-0.25 -> 4.7285714 | O48: =K$44 -> 1.39
J49: N: | K49: =(2.1-(1.2/K48))/0.3 -> -4.4285714 | L49: =(2.1-(1.2/L48))/0.3 -> -4.4285714 | N49: =L$46+0.25 -> 5.2285714 | O49: =K$44 -> 1.39

Sheet Curve 2
A1: =CONCATENATE('Input Data'!G$43,", ",'Input Data'!G$45,", ",'Input Data'!G$46," @",'Input Data'!G$47,", ",'Input Data'!G$48) -> Kodak TMax-100, Ilford ID-11, 1+1 @20°C, rotation processing
A2: =CONCATENATE('Input Data'!H10," minutes") -> 5.5 minutes
K41: prop | L41: adjust
J42: base+fog: | K42: ='Input Data'!P43 -> 0.03 | N42: =$K$45 -> 1.15 | O42: =$K$43-0.25 -> -0.05 | Q42: =$K$45 -> 1.15 | R42: =$K$43-0.05 -> 0.15
J43: absolute Dmin: | K43: ='Input Data'!K49+K42 -> 0.2 | N43: =$K$45 -> 1.15 | O43: =$K$43+0.25 -> 0.45 | Q43: =$K$45 -> 1.15 | R43: =$K$43+0.05 -> 0.25
J44: absolute Dmax: | K44: ='Input Data'!L49+K42 -> 1.4 | N44: =$K$45-0.25 -> 0.9 | O44: =$K$43 -> 0.2 | Q44: =$K$45-0.05 -> 1.1 | R44: =$K$43 -> 0.2
J45: logH min: | K45: ='Input Data'!Y48 -> 1.15 | N45: =$K$45+0.25 -> 1.4 | O45: =$K$43 -> 0.2 | Q45: =$K$45+0.05 -> 1.2 | R45: =$K$43 -> 0.2
J46: logH max: | K46: =K45+K47 -> 3.9921053 | L46: =K45+L47 -> 3.9921053 | N46: =L$46 -> 3.9921053 | O46: =K$44+0.25 -> 1.65
J47: logH range: | K47: =(K44-K43)/K48 -> 2.8421053 | L47: =(K44-K43)/L48 -> 2.8421053 | N47: =L$46 -> 3.9921053 | O47: =K$44-0.25 -> 1.15
J48: avg gradient: | K48: ='Input Data'!P48 -> 0.42222222 | L48: =K48 -> 0.42222222 | N48: =L$46-0.25 -> 3.7421053 | O48: =K$44 -> 1.4
J49: N: | K49: =(2.1-(1.2/K48))/0.3 -> -2.4736842 | L49: =(2.1-(1.2/L48))/0.3 -> -2.4736842 | N49: =L$46+0.25 -> 4.2421053 | O49: =K$44 -> 1.4

Sheet Curve 3
A1: =CONCATENATE('Input Data'!G$43,", ",'Input Data'!G$45,", ",'Input Data'!G$46," @",'Input Data'!G$47,", ",'Input Data'!G$48) -> Kodak TMax-100, Ilford ID-11, 1+1 @20°C, rotation processing
A2: =CONCATENATE('Input Data'!I10," minutes") -> 8 minutes
K41: prop | L41: adjust
J42: base+fog: | K42: ='Input Data'!Q43 -> 0.03 | N42: =$K$45 -> 0.82 | O42: =$K$43-0.25 -> -0.05 | Q42: =$K$45 -> 0.82 | R42: =$K$43-0.05 -> 0.15
J43: absolute Dmin: | K43: ='Input Data'!K49+K42 -> 0.2 | N43: =$K$45 -> 0.82 | O43: =$K$43+0.25 -> 0.45 | Q43: =$K$45 -> 0.82 | R43: =$K$43+0.05 -> 0.25
J44: absolute Dmax: | K44: ='Input Data'!L49+K42 -> 1.4 | N44: =$K$45-0.25 -> 0.57 | O44: =$K$43 -> 0.2 | Q44: =$K$45-0.05 -> 0.77 | R44: =$K$43 -> 0.2
J45: logH min: | K45: ='Input Data'!AB48 -> 0.82 | N45: =$K$45+0.25 -> 1.07 | O45: =$K$43 -> 0.2 | Q45: =$K$45+0.05 -> 0.87 | R45: =$K$43 -> 0.2
J46: logH max: | K46: =K45+K47 -> 3.1319266 | L46: =K45+L47 -> 3.1319266 | N46: =L$46 -> 3.1319266 | O46: =K$44+0.25 -> 1.65
J47: logH range: | K47: =(K44-K43)/K48 -> 2.3119266 | L47: =(K44-K43)/L48 -> 2.3119266 | N47: =L$46 -> 3.1319266 | O47: =K$44-0.25 -> 1.15
J48: avg gradient: | K48: ='Input Data'!Q48 -> 0.51904762 | L48: =K48 -> 0.51904762 | N48: =L$46-0.25 -> 2.8819266 | O48: =K$44 -> 1.4
J49: N: | K49: =(2.1-(1.2/K48))/0.3 -> -0.70642202 | L49: =(2.1-(1.2/L48))/0.3 -> -0.70642202 | N49: =L$46+0.25 -> 3.3819266 | O49: =K$44 -> 1.4

Sheet Curve 4
A1: =CONCATENATE('Input Data'!G$43,", ",'Input Data'!G$45,", ",'Input Data'!G$46," @",'Input Data'!G$47,", ",'Input Data'!G$48) -> Kodak TMax-100, Ilford ID-11, 1+1 @20°C, rotation processing
A2: =CONCATENATE('Input Data'!J10," minutes") -> 11 minutes
K41: prop | L41: adjust
J42: base+fog: | K42: ='Input Data'!R43 -> 0.04 | N42: =$K$45 -> 0.7 | O42: =$K$43-0.25 -> -0.04 | Q42: =$K$45 -> 0.7 | R42: =$K$43-0.05 -> 0.16
J43: absolute Dmin: | K43: ='Input Data'!K49+K42 -> 0.21 | N43: =$K$45 -> 0.7 | O43: =$K$43+0.25 -> 0.46 | Q43: =$K$45 -> 0.7 | R43: =$K$43+0.05 -> 0.26
J44: absolute Dmax: | K44: ='Input Data'!L49+K42 -> 1.41 | N44: =$K$45-0.25 -> 0.45 | O44: =$K$43 -> 0.21 | Q44: =$K$45-0.05 -> 0.65 | R44: =$K$43 -> 0.21
J45: logH min: | K45: ='Input Data'!AE48 -> 0.7 | N45: =$K$45+0.25 -> 0.95 | O45: =$K$43 -> 0.21 | Q45: =$K$45+0.05 -> 0.75 | R45: =$K$43 -> 0.21
J46: logH max: | K46: =K45+K47 -> 2.6 | L46: =K45+L47 -> 2.6 | N46: =L$46 -> 2.6 | O46: =K$44+0.25 -> 1.66
J47: logH range: | K47: =(K44-K43)/K48 -> 1.9 | L47: =(K44-K43)/L48 -> 1.9 | N47: =L$46 -> 2.6 | O47: =K$44-0.25 -> 1.16
J48: avg gradient: | K48: ='Input Data'!R48 -> 0.63157895 | L48: =K48 -> 0.63157895 | N48: =L$46-0.25 -> 2.35 | O48: =K$44 -> 1.41
J49: N: | K49: =(2.1-(1.2/K48))/0.3 -> 0.66666667 | L49: =(2.1-(1.2/L48))/0.3 -> 0.66666667 | N49: =L$46+0.25 -> 2.85 | O49: =K$44 -> 1.41

Sheet Curve 5
A1: =CONCATENATE('Input Data'!G$43,", ",'Input Data'!G$45,", ",'Input Data'!G$46," @",'Input Data'!G$47,", ",'Input Data'!G$48) -> Kodak TMax-100, Ilford ID-11, 1+1 @20°C, rotation processing
A2: =CONCATENATE('Input Data'!K10," minutes") -> 16 minutes
K41: prop | L41: adjust
J42: base+fog: | K42: ='Input Data'!S43 -> 0.04 | N42: =$K$45 -> 0.6375 | O42: =$K$43-0.25 -> -0.04 | Q42: =$K$45 -> 0.6375 | R42: =$K$43-0.05 -> 0.16
J43: absolute Dmin: | K43: ='Input Data'!K49+K42 -> 0.21 | N43: =$K$45 -> 0.6375 | O43: =$K$43+0.25 -> 0.46 | Q43: =$K$45 -> 0.6375 | R43: =$K$43+0.05 -> 0.26
J44: absolute Dmax: | K44: ='Input Data'!L49+K42 -> 1.41 | N44: =$K$45-0.25 -> 0.3875 | O44: =$K$43 -> 0.21 | Q44: =$K$45-0.05 -> 0.5875 | R44: =$K$43 -> 0.21
J45: logH min: | K45: ='Input Data'!AH48 -> 0.6375 | N45: =$K$45+0.25 -> 0.8875 | O45: =$K$43 -> 0.21 | Q45: =$K$45+0.05 -> 0.6875 | R45: =$K$43 -> 0.21
J46: logH max: | K46: =K45+K47 -> 1.8896739 | L46: =K45+L47 -> 1.8896739 | N46: =L$46 -> 1.8896739 | O46: =K$44+0.25 -> 1.66
J47: logH range: | K47: =(K44-K43)/K48 -> 1.2521739 | L47: =(K44-K43)/L48 -> 1.2521739 | N47: =L$46 -> 1.8896739 | O47: =K$44-0.25 -> 1.16
J48: avg gradient: | K48: ='Input Data'!S48 -> 0.95833333 | L48: =K48 -> 0.95833333 | N48: =L$46-0.25 -> 1.6396739 | O48: =K$44 -> 1.41
J49: N: | K49: =(2.1-(1.2/K48))/0.3 -> 2.826087 | L49: =(2.1-(1.2/L48))/0.3 -> 2.826087 | N49: =L$46+0.25 -> 2.1396739 | O49: =K$44 -> 1.41

Sheet Family of Curves
A1: =CONCATENATE('Input Data'!G$43,", ",'Input Data'!G$45,", ",'Input Data'!G$46," @",'Input Data'!G$47,", ",'Input Data'!G$48) -> Kodak TMax-100, Ilford ID-11, 1+1 @20°C, rotation processing
A2: Family of Curves
A5: =CONCATENATE("from ",'Input Data'!G$10," - ",'Input Data'!K$10," minutes") -> from 4 - 16 minutes
N34: ='Input Data'!G10 -> 4 | Q34: ='Input Data'!K10 -> 16
N35: ='Curve 1'!$Q42 -> 1.55 | O35: ='Curve 1'!$R42 -> 0.14 | Q35: ='Curve 5'!$Q42 -> 0.6375 | R35: ='Curve 5'!$R42 -> 0.16
N36: ='Curve 1'!$Q43 -> 1.55 | O36: ='Curve 1'!$R43 -> 0.24 | Q36: ='Curve 5'!$Q43 -> 0.6375 | R36: ='Curve 5'!$R43 -> 0.26
N37: ='Curve 1'!$Q44 -> 1.5 | O37: ='Curve 1'!$R44 -> 0.19 | Q37: ='Curve 5'!$Q44 -> 0.5875 | R37: ='Curve 5'!$R44 -> 0.21
N38: ='Curve 1'!$Q45 -> 1.6 | O38: ='Curve 1'!$R45 -> 0.19 | Q38: ='Curve 5'!$Q45 -> 0.6875 | R38: ='Curve 5'!$R45 -> 0.21
I44: time | J44: logH | K44: avgG | L44: N
I45: ='Input Data'!G10 -> 4 | J45: ='Curve 1'!K$45 -> 1.55 | K45: ='Curve 1'!L$48 -> 0.35 | L45: ='Curve 1'!L$49 -> -4.4285714 | N45: ='Curve 1'!K$45 -> 1.55 | O45: ='Curve 1'!K$43 -> 0.19 | Q45: ='Curve 1'!K$46 -> 4.9785714 | R45: ='Curve 1'!K$44 -> 1.39
I46: ='Input Data'!H10 -> 5.5 | J46: ='Curve 2'!K$45 -> 1.15 | K46: ='Curve 2'!L$48 -> 0.42222222 | L46: ='Curve 2'!L$49 -> -2.4736842 | N46: ='Curve 2'!K$45 -> 1.15 | O46: ='Curve 2'!K$43 -> 0.2 | Q46: ='Curve 2'!K$46 -> 3.9921053 | R46: ='Curve 2'!K$44 -> 1.4
I47: ='Input Data'!I10 -> 8 | J47: ='Curve 3'!K$45 -> 0.82 | K47: ='Curve 3'!L$48 -> 0.51904762 | L47: ='Curve 3'!L$49 -> -0.70642202 | N47: ='Curve 3'!K$45 -> 0.82 | O47: ='Curve 3'!K$43 -> 0.2 | Q47: ='Curve 3'!K$46 -> 3.1319266 | R47: ='Curve 3'!K$44 -> 1.4
I48: ='Input Data'!J10 -> 11 | J48: ='Curve 4'!K$45 -> 0.7 | K48: ='Curve 4'!L$48 -> 0.63157895 | L48: ='Curve 4'!L$49 -> 0.66666667 | N48: ='Curve 4'!K$45 -> 0.7 | O48: ='Curve 4'!K$43 -> 0.21 | Q48: ='Curve 4'!K$46 -> 2.6 | R48: ='Curve 4'!K$44 -> 1.41
I49: ='Input Data'!K10 -> 16 | J49: ='Curve 5'!K$45 -> 0.6375 | K49: ='Curve 5'!L$48 -> 0.95833333 | L49: ='Curve 5'!L$49 -> 2.826087 | N49: ='Curve 5'!K$45 -> 0.6375 | O49: ='Curve 5'!K$43 -> 0.21 | Q49: ='Curve 5'!K$46 -> 1.8896739 | R49: ='Curve 5'!K$44 -> 1.41

Sheet Summary
A1: ='Input Data'!G$43 -> Kodak TMax-100
A3: ='Input Data'!G$44 -> 4x5 sheet film
A4: =CONCATENATE('Input Data'!G$45,", ",'Input Data'!G$46," @",'Input Data'!G$47,", ",'Input Data'!G$48) -> Ilford ID-11, 1+1 @20°C, rotation processing
A5: ='Input Data'!G$49 -> 39057
D8: ='Input Data'!G10 -> 4 | E8: ='Input Data'!H10 -> 5.5 | F8: ='Input Data'!I10 -> 8 | G8: ='Input Data'!J10 -> 11 | H8: ='Input Data'!K10 -> 16 | K8: normal gradient: | L8: 0.57143
C9: proposed: | D9: ='Family of Curves'!$K45 -> 0.35 | E9: ='Family of Curves'!$K46 -> 0.42222222 | F9: ='Family of Curves'!$K47 -> 0.51904762 | G9: ='Family of Curves'!$K48 -> 0.63157895 | H9: ='Family of Curves'!$K49 -> 0.95833333 | K9: normal EI: | L9: 64
C10: adjusted: | D10: =D9 -> 0.35 | E10: =E9 -> 0.42222222 | F10: =F9 -> 0.51904762 | G10: =G9 -> 0.63157895 | H10: =H9 -> 0.95833333 | K10: logH min: | L10: 0.74
O12: prop | P12: adjust
N13: ='Input Data'!G$10 -> 4 | O13: ='Family of Curves'!K45 -> 0.35 | P13: =D$10 -> 0.35
N14: ='Input Data'!H$10 -> 5.5 | O14: ='Family of Curves'!K46 -> 0.42222222 | P14: =E$10 -> 0.42222222
N15: ='Input Data'!I$10 -> 8 | O15: ='Family of Curves'!K47 -> 0.51904762 | P15: =F$10 -> 0.51904762
N16: ='Input Data'!J$10 -> 11 | O16: ='Family of Curves'!K48 -> 0.63157895 | P16: =G$10 -> 0.63157895
N17: ='Input Data'!K$10 -> 16 | O17: ='Family of Curves'!K49 -> 0.95833333 | P17: =H$10 -> 0.95833333
O26: =MIN('Family of Curves'!J$45:J$49)-0.15 -> 0.4875 | P26: =L$8 -> 0.57143
O27: =MAX('Family of Curves'!J$45:J$49)+0.15 -> 1.7 | P27: =L$8 -> 0.57143
O28: =L$10 -> 0.74 | P28: =MAX('Family of Curves'!K$45:K$49) -> 0.95833333
O29: =L$10 -> 0.74 | P29: 0.3
O32: prop | P32: adjust
N33: ='Input Data'!G$10 -> 4 | O33: ='Family of Curves'!L45 -> -4.4285714 | P33: =(2.1-(1.2/P13))/0.3 -> -4.4285714
N34: ='Input Data'!H$10 -> 5.5 | O34: ='Family of Curves'!L46 -> -2.4736842 | P34: =(2.1-(1.2/P14))/0.3 -> -2.4736842
N35: ='Input Data'!I$10 -> 8 | O35: ='Family of Curves'!L47 -> -0.70642202 | P35: =(2.1-(1.2/P15))/0.3 -> -0.70642202
N36: ='Input Data'!J$10 -> 11 | O36: ='Family of Curves'!L48 -> 0.66666667 | P36: =(2.1-(1.2/P16))/0.3 -> 0.66666667
N37: ='Input Data'!K$10 -> 16 | O37: ='Family of Curves'!L49 -> 2.826087 | P37: =(2.1-(1.2/P17))/0.3 -> 2.826087
O45: ='Family of Curves'!J45 -> 1.55 | P45: =L$9/10^(O45-L$10) -> 9.9124264
O46: ='Family of Curves'!J46 -> 1.15 | P46: =L$9/10^(O46-L$10) -> 24.898889
O47: ='Family of Curves'!J47 -> 0.82 | P47: =L$9/10^(O47-L$10) -> 53.232881
O48: ='Family of Curves'!J48 -> 0.7 | P48: =L$9/10^(O48-L$10) -> 70.174605
O49: ='Family of Curves'!J49 -> 0.6375 | P49: =L$9/10^(O49-L$10) -> 81.036369
